BEGIN:VCALENDAR
VERSION:2.0
PRODID:-//Athletics - NZ - ECPv4.9.13//NONSGML v1.0//EN
CALSCALE:GREGORIAN
METHOD:PUBLISH
X-WR-CALNAME:Athletics - NZ
X-ORIGINAL-URL:http://kidsathletics.nz
X-WR-CALDESC:Events for Athletics - NZ
BEGIN:VTIMEZONE
TZID:Pacific/Auckland
BEGIN:STANDARD
TZOFFSETFROM:+1300
TZOFFSETTO:+1200
TZNAME:NZST
DTSTART:20180331T140000
END:STANDARD
BEGIN:DAYLIGHT
TZOFFSETFROM:+1200
TZOFFSETTO:+1300
TZNAME:NZDT
DTSTART:20180929T140000
END:DAYLIGHT
END:VTIMEZONE
BEGIN:VEVENT
DTSTART;TZID=Pacific/Auckland:20180814T170000
DTEND;TZID=Pacific/Auckland:20180814T183000
DTSTAMP:20191221T103549
CREATED:20180723T024617Z
LAST-MODIFIED:20180723T024845Z
UID:767-1534266000-1534271400@kidsathletics.nz
SUMMARY:Get Set Go Club Workshop Taupo
DESCRIPTION:Click below for more information \nGet Set Go Club Workshop – PDF \n
URL:http://kidsathletics.nz/event/get-set-go-club-workshop/
LOCATION:Sports House\, 39 AC Baths Ave\, Taupo\, Waikato\, New Zealand
GEO:-38.6783361;176.0939625
X-APPLE-STRUCTURED-LOCATION;VALUE=URI;X-ADDRESS=Sports House 39 AC Baths Ave Taupo Waikato New Zealand;X-APPLE-RADIUS=500;X-TITLE=39 AC Baths Ave:geo:176.0939625,-38.6783361
END:VEVENT
END:VCALENDAR