BEGIN:VCALENDAR
VERSION:2.0
PRODID:-//Athletics - NZ - ECPv4.9.13//NONSGML v1.0//EN
CALSCALE:GREGORIAN
METHOD:PUBLISH
X-WR-CALNAME:Athletics - NZ
X-ORIGINAL-URL:http://kidsathletics.nz
X-WR-CALDESC:Events for Athletics - NZ
BEGIN:VTIMEZONE
TZID:Pacific/Auckland
BEGIN:STANDARD
TZOFFSETFROM:+1300
TZOFFSETTO:+1200
TZNAME:NZST
DTSTART:20180331T140000
END:STANDARD
BEGIN:DAYLIGHT
TZOFFSETFROM:+1200
TZOFFSETTO:+1300
TZNAME:NZDT
DTSTART:20180929T140000
END:DAYLIGHT
END:VTIMEZONE
BEGIN:VEVENT
DTSTART;TZID=Pacific/Auckland:20180804T083000
DTEND;TZID=Pacific/Auckland:20180804T160000
DTSTAMP:20191221T103855
CREATED:20180723T023519Z
LAST-MODIFIED:20180723T023635Z
UID:762-1533371400-1533398400@kidsathletics.nz
SUMMARY:Club Connect Conference - 2018
DESCRIPTION:
URL:http://kidsathletics.nz/event/club-connect-conference-2018/
LOCATION:Quality Hotel Wellington\, 213–223 Cuba Street\, Wellington\, N/A\, New Zealand
GEO:-41.295404;174.7746879
X-APPLE-STRUCTURED-LOCATION;VALUE=URI;X-ADDRESS=Quality Hotel Wellington 213–223 Cuba Street Wellington N/A New Zealand;X-APPLE-RADIUS=500;X-TITLE=213–223 Cuba Street:geo:174.7746879,-41.295404
END:VEVENT
END:VCALENDAR